BEGIN:VCALENDAR
PRODID:-//AT Content Types//AT Event//EN
VERSION:1.0
BEGIN:VEVENT
DTSTART:20170831T130000Z
DTEND:20170831T143000Z
DCREATED:20170825T204923Z
UID:ATEvent-e082597e27c4d0293c0d0712e5515f29
SEQUENCE:0
LAST-MODIFIED:20170825T204936Z
SUMMARY:Семинар
DESCRIPTION:Ханов Артур Рафаэльеаич
LOCATION:каб. А.Н. Терехова
PRIORITY:3
TRANSP:0
END:VEVENT
END:VCALENDAR
