BEGIN:VCALENDAR
PRODID:-//AT Content Types//AT Event//EN
VERSION:2.0
METHOD:PUBLISH
BEGIN:VEVENT
DTSTAMP:20260419T164037Z
CREATED:20160912T202955Z
UID:ATEvent-bdc916bd1bb09f90e53d6cbe4e131a1f
LAST-MODIFIED:20160912T203001Z
SUMMARY:Семинар
DTSTART:20160914T133000Z
DTEND:20160914T150000Z
DESCRIPTION:Кознов Дмитрий Владимирович
URL:http://se.math.spbu.ru/SE/seminar
CLASS:PUBLIC
END:VEVENT
END:VCALENDAR
