BEGIN:VCALENDAR
PRODID:-//AT Content Types//AT Event//EN
VERSION:2.0
METHOD:PUBLISH
BEGIN:VEVENT
DTSTAMP:20260424T000501Z
CREATED:20130221T101626Z
UID:ATEvent-360f273eeb2c5c44beced7b8e6a5315c
LAST-MODIFIED:20130221T101717Z
SUMMARY:Семинар
DTSTART:20130227T132000Z
DTEND:20130227T150000Z
DESCRIPTION:Максим Баклановский
LOCATION:каб. А.Н. Терехова
URL:http://se.math.spbu.ru/SE/seminar
CLASS:PUBLIC
END:VEVENT
END:VCALENDAR
