BEGIN:VCALENDAR
PRODID:-//AT Content Types//AT Event//EN
VERSION:1.0
BEGIN:VEVENT
DTSTART:20141008T132000Z
DTEND:20141008T150000Z
DCREATED:20141003T130222Z
UID:ATEvent-daca3464680a24500931c51b21eff539
SEQUENCE:0
LAST-MODIFIED:20141003T130419Z
SUMMARY:Семинар
DESCRIPTION:Линский Евгений Михайлович (ГУА
 П)
LOCATION:каб. А.Н. Терехова
PRIORITY:3
TRANSP:0
END:VEVENT
END:VCALENDAR
