BEGIN:VCALENDAR
PRODID:-//AT Content Types//AT Event//EN
VERSION:2.0
METHOD:PUBLISH
BEGIN:VEVENT
DTSTAMP:20260425T124104Z
CREATED:20140411T052603Z
UID:ATEvent-1c825d698698b02c987ad6cbd5657f66
LAST-MODIFIED:20140411T052613Z
SUMMARY:Семинар
DTSTART:20140416T132000Z
DTEND:20140416T150000Z
DESCRIPTION:Петр Лозов\, Алексей Семин
LOCATION:каб. А.Н. Терехова
URL:http://se.math.spbu.ru/SE/seminarhttp://se.math.spbu.ru/SE/seminar
CLASS:PUBLIC
END:VEVENT
END:VCALENDAR
