BEGIN:VCALENDAR
PRODID:-//AT Content Types//AT Event//EN
VERSION:2.0
METHOD:PUBLISH
BEGIN:VEVENT
DTSTAMP:20260421T180527Z
CREATED:20190608T143128Z
UID:ATEvent-0f8015b28b0b41accf00ee396ce64e62
LAST-MODIFIED:20190608T143407Z
SUMMARY:Защиты магистров 2019
DTSTART:20190610T060000Z
DTEND:20190610T100000Z
DESCRIPTION:10 июня 2019 г. в 10\:00 в ауд. 405 Матмех
 а (Петергоф\, Университетский пр.\, д. 28) 
 пройдут защиты магистров направления 
 «Математическое обеспечение и админи
 трирование информационных систем» (02.
 04.03)
LOCATION:ауд. 405\, Матмех (Петергоф\, Университетский пр.\, 28)
CATEGORIES:Meeting
CLASS:PUBLIC
END:VEVENT
END:VCALENDAR
